BEGIN:VCALENDAR
VERSION:2.0
PRODID:-//Bulacan Agricultural State College - ECPv6.15.20//NONSGML v1.0//EN
CALSCALE:GREGORIAN
METHOD:PUBLISH
X-WR-CALNAME:Bulacan Agricultural State College
X-ORIGINAL-URL:https://basc.edu.ph
X-WR-CALDESC:Events for Bulacan Agricultural State College
REFRESH-INTERVAL;VALUE=DURATION:PT1H
X-Robots-Tag:noindex
X-PUBLISHED-TTL:PT1H
BEGIN:VTIMEZONE
TZID:Asia/Shanghai
BEGIN:STANDARD
TZOFFSETFROM:+0800
TZOFFSETTO:+0800
TZNAME:CST
DTSTART:20200101T000000
END:STANDARD
END:VTIMEZONE
BEGIN:VEVENT
DTSTART;TZID=Asia/Shanghai:20211113T080000
DTEND;TZID=Asia/Shanghai:20211113T170000
DTSTAMP:20260419T203959
CREATED:20211104T083803Z
LAST-MODIFIED:20220407T062120Z
UID:2500-1636790400-1636822800@basc.edu.ph
SUMMARY:MidTerm Examination (Graduate Studies)
DESCRIPTION: 
URL:https://basc.edu.ph/event/midterm-examination-graduate-studies/
LOCATION:BASC Main Campus\, Pinaod\, San Ildefonso\, Bulacan\, 3010\, Philippines
CATEGORIES:Academics
ATTACH;FMTTYPE=image/png:https://basc.edu.ph/wp-content/uploads/2021/11/Midterm-Graduate-Studies.png
ORGANIZER;CN="BASC":MAILTO:info@basc.edu.ph
END:VEVENT
BEGIN:VEVENT
DTSTART;TZID=Asia/Shanghai:20211110T080000
DTEND;TZID=Asia/Shanghai:20211112T170000
DTSTAMP:20260419T203959
CREATED:20211104T083640Z
LAST-MODIFIED:20220407T062122Z
UID:2498-1636531200-1636736400@basc.edu.ph
SUMMARY:MidTerm Examination
DESCRIPTION:Wednesday to Friday\n8:00 am – 5:00 pm \n\n 
URL:https://basc.edu.ph/event/midterm-examination/
LOCATION:BASC Main Campus\, Pinaod\, San Ildefonso\, Bulacan\, 3010\, Philippines
CATEGORIES:Academics
ATTACH;FMTTYPE=image/png:https://basc.edu.ph/wp-content/uploads/2021/11/Midterm-Examination.png
ORGANIZER;CN="BASC":MAILTO:info@basc.edu.ph
END:VEVENT
BEGIN:VEVENT
DTSTART;TZID=Asia/Shanghai:20211109T080000
DTEND;TZID=Asia/Shanghai:20211109T170000
DTSTAMP:20260419T203959
CREATED:20211104T083411Z
LAST-MODIFIED:20220407T062124Z
UID:2496-1636444800-1636477200@basc.edu.ph
SUMMARY:End of Dropping of Subjects
DESCRIPTION: 
URL:https://basc.edu.ph/event/end-of-dropping-of-subjects/
LOCATION:BASC Main Campus\, Pinaod\, San Ildefonso\, Bulacan\, 3010\, Philippines
CATEGORIES:Academics
ATTACH;FMTTYPE=image/png:https://basc.edu.ph/wp-content/uploads/2021/11/End-of-Dropping-of-Subjects.png
ORGANIZER;CN="BASC":MAILTO:info@basc.edu.ph
END:VEVENT
BEGIN:VEVENT
DTSTART;TZID=Asia/Shanghai:20211002T080000
DTEND;TZID=Asia/Shanghai:20211002T170000
DTSTAMP:20260419T203959
CREATED:20211104T083219Z
LAST-MODIFIED:20220407T062129Z
UID:2494-1633161600-1633194000@basc.edu.ph
SUMMARY:Preliminary Examination (Graduate Studies)
DESCRIPTION: 
URL:https://basc.edu.ph/event/preliminary-examination-graduate-studies/
LOCATION:BASC Main Campus\, Pinaod\, San Ildefonso\, Bulacan\, 3010\, Philippines
CATEGORIES:Academics
ATTACH;FMTTYPE=image/png:https://basc.edu.ph/wp-content/uploads/2021/11/Prelim-Examination-Graduate-Studies.png
ORGANIZER;CN="BASC":MAILTO:info@basc.edu.ph
END:VEVENT
BEGIN:VEVENT
DTSTART;TZID=Asia/Shanghai:20210929T080000
DTEND;TZID=Asia/Shanghai:20211001T170000
DTSTAMP:20260419T203959
CREATED:20211104T054821Z
LAST-MODIFIED:20220407T062130Z
UID:2492-1632902400-1633107600@basc.edu.ph
SUMMARY:Preliminary Examination
DESCRIPTION:Wednesday to Friday\n8:00 am – 5:00 pm \n\n 
URL:https://basc.edu.ph/event/preliminary-examination/
LOCATION:BASC Main Campus\, Pinaod\, San Ildefonso\, Bulacan\, 3010\, Philippines
CATEGORIES:Academics
ATTACH;FMTTYPE=image/png:https://basc.edu.ph/wp-content/uploads/2021/11/Preliminary-Examination.png
ORGANIZER;CN="BASC":MAILTO:info@basc.edu.ph
END:VEVENT
BEGIN:VEVENT
DTSTART;TZID=Asia/Shanghai:20210828T080000
DTEND;TZID=Asia/Shanghai:20210828T170000
DTSTAMP:20260419T203959
CREATED:20211104T053814Z
LAST-MODIFIED:20220407T062132Z
UID:2487-1630137600-1630170000@basc.edu.ph
SUMMARY:Start of Classes (Graduate Studies)
DESCRIPTION: 
URL:https://basc.edu.ph/event/start-of-classes-graduate-studies/
LOCATION:BASC Main Campus\, Pinaod\, San Ildefonso\, Bulacan\, 3010\, Philippines
CATEGORIES:Academics
ATTACH;FMTTYPE=image/png:https://basc.edu.ph/wp-content/uploads/2021/11/Start-of-Clasees-Graduate-Studies.png
ORGANIZER;CN="BASC":MAILTO:info@basc.edu.ph
END:VEVENT
BEGIN:VEVENT
DTSTART;TZID=Asia/Shanghai:20210823T080000
DTEND;TZID=Asia/Shanghai:20210828T170000
DTSTAMP:20260419T203959
CREATED:20211104T054555Z
LAST-MODIFIED:20220407T062134Z
UID:2489-1629705600-1630170000@basc.edu.ph
SUMMARY:Adding/Changing of Subjects
DESCRIPTION:Monday to Saturday\n8:00 am – 5:00 pm \n\n 
URL:https://basc.edu.ph/event/adding-changing-of-subjects/
LOCATION:BASC Main Campus\, Pinaod\, San Ildefonso\, Bulacan\, 3010\, Philippines
CATEGORIES:Academics
ATTACH;FMTTYPE=image/png:https://basc.edu.ph/wp-content/uploads/2021/11/Adding-andor-Changing-of-Subjects.png
ORGANIZER;CN="BASC":MAILTO:info@basc.edu.ph
END:VEVENT
BEGIN:VEVENT
DTSTART;TZID=Asia/Shanghai:20210823T080000
DTEND;TZID=Asia/Shanghai:20210823T170000
DTSTAMP:20260419T203959
CREATED:20211104T053439Z
LAST-MODIFIED:20220407T062135Z
UID:2485-1629705600-1629738000@basc.edu.ph
SUMMARY:Start of Classes
DESCRIPTION: 
URL:https://basc.edu.ph/event/start-of-classes/
LOCATION:BASC Main Campus\, Pinaod\, San Ildefonso\, Bulacan\, 3010\, Philippines
CATEGORIES:Academics
ATTACH;FMTTYPE=image/png:https://basc.edu.ph/wp-content/uploads/2021/11/Start-of-Classes.png
ORGANIZER;CN="BASC":MAILTO:info@basc.edu.ph
END:VEVENT
BEGIN:VEVENT
DTSTART;TZID=Asia/Shanghai:20210802T080000
DTEND;TZID=Asia/Shanghai:20210820T170000
DTSTAMP:20260419T203959
CREATED:20211104T034631Z
LAST-MODIFIED:20220407T062137Z
UID:2482-1627891200-1629478800@basc.edu.ph
SUMMARY:Enrolment Period (Old Students)
DESCRIPTION:Monday to Friday\n8:00 am – 5:00 pm \n\n 
URL:https://basc.edu.ph/event/enrolment-period-old-students/
LOCATION:BASC Main Campus\, Pinaod\, San Ildefonso\, Bulacan\, 3010\, Philippines
CATEGORIES:Academics
ATTACH;FMTTYPE=image/png:https://basc.edu.ph/wp-content/uploads/2021/11/enrolment-Period-Old-Students.png
ORGANIZER;CN="BASC":MAILTO:info@basc.edu.ph
END:VEVENT
BEGIN:VEVENT
DTSTART;TZID=Asia/Shanghai:20210628T080000
DTEND;TZID=Asia/Shanghai:20210723T170000
DTSTAMP:20260419T203959
CREATED:20211104T034055Z
LAST-MODIFIED:20220407T062138Z
UID:2480-1624867200-1627059600@basc.edu.ph
SUMMARY:Enrolment Period (Incoming First Year College)
DESCRIPTION:Monday to Friday\n8:00 am – 5:00 pm \n\n 
URL:https://basc.edu.ph/event/enrolment-period-incoming-first-year-college/
LOCATION:BASC Main Campus\, Pinaod\, San Ildefonso\, Bulacan\, 3010\, Philippines
CATEGORIES:Academics
ATTACH;FMTTYPE=image/png:https://basc.edu.ph/wp-content/uploads/2021/11/Enrolment-Period-Incoming-First-Year.png
ORGANIZER;CN="BASC":MAILTO:info@basc.edu.ph
END:VEVENT
END:VCALENDAR